BEGIN:VCALENDAR
VERSION:2.0
PRODID:-//Gimso Aragón - ECPv6.15.20//NONSGML v1.0//EN
CALSCALE:GREGORIAN
METHOD:PUBLISH
X-WR-CALNAME:Gimso Aragón
X-ORIGINAL-URL:https://gimsoaragon.com/en/
X-WR-CALDESC:Events for Gimso Aragón
REFRESH-INTERVAL;VALUE=DURATION:PT1H
X-Robots-Tag:noindex
X-PUBLISHED-TTL:PT1H
BEGIN:VTIMEZONE
TZID:Europe/Paris
BEGIN:DAYLIGHT
TZOFFSETFROM:+0100
TZOFFSETTO:+0200
TZNAME:CEST
DTSTART:20170326T010000
END:DAYLIGHT
BEGIN:STANDARD
TZOFFSETFROM:+0200
TZOFFSETTO:+0100
TZNAME:CET
DTSTART:20171029T010000
END:STANDARD
BEGIN:DAYLIGHT
TZOFFSETFROM:+0100
TZOFFSETTO:+0200
TZNAME:CEST
DTSTART:20180325T010000
END:DAYLIGHT
BEGIN:STANDARD
TZOFFSETFROM:+0200
TZOFFSETTO:+0100
TZNAME:CET
DTSTART:20181028T010000
END:STANDARD
BEGIN:DAYLIGHT
TZOFFSETFROM:+0100
TZOFFSETTO:+0200
TZNAME:CEST
DTSTART:20190331T010000
END:DAYLIGHT
BEGIN:STANDARD
TZOFFSETFROM:+0200
TZOFFSETTO:+0100
TZNAME:CET
DTSTART:20191027T010000
END:STANDARD
END:VTIMEZONE
BEGIN:VEVENT
DTSTART;VALUE=DATE:20180618
DTEND;VALUE=DATE:20180624
DTSTAMP:20260421T133725
CREATED:20180326T204827Z
LAST-MODIFIED:20180328T124514Z
UID:1899-1529280000-1529798399@gimsoaragon.com
SUMMARY:Mouse vs. Human Comparative Morphology
DESCRIPTION:Course Program
URL:https://gimsoaragon.com/en/evento/mouse-vs-human-comparative-morphology/
LOCATION:Barcelona\, España
CATEGORIES:Curso
END:VEVENT
BEGIN:VEVENT
DTSTART;VALUE=DATE:20180406
DTEND;VALUE=DATE:20180408
DTSTAMP:20260421T133725
CREATED:20180328T090614Z
LAST-MODIFIED:20180328T090614Z
UID:1984-1522972800-1523145599@gimsoaragon.com
SUMMARY:V Curso Internacional de Oculoplástica
DESCRIPTION:
URL:https://gimsoaragon.com/en/evento/v-curso-internacional-de-oculoplastica/
LOCATION:vigo\, España
CATEGORIES:Curso
END:VEVENT
BEGIN:VEVENT
DTSTART;VALUE=DATE:20180406
DTEND;VALUE=DATE:20180408
DTSTAMP:20260421T133725
CREATED:20180328T090259Z
LAST-MODIFIED:20180328T090259Z
UID:1976-1522972800-1523145599@gimsoaragon.com
SUMMARY:Curso monográfico ARI – UMH 2018
DESCRIPTION:
URL:https://gimsoaragon.com/en/evento/curso-monografico-ari-umh-2018/
LOCATION:Alicante\, España
CATEGORIES:Curso
END:VEVENT
END:VCALENDAR